Package: geomeTriD Version: 1.1.9 Command: rm -rf geomeTriD.buildbin-libdir && mkdir geomeTriD.buildbin-libdir && /Users/biocbuild/BBS/utils/build-universal.sh geomeTriD_1.1.9.tar.gz /Library/Frameworks/R.framework/Resources/bin/R geomeTriD.buildbin-libdir StartedAt: 2025-02-18 22:23:10 -0500 (Tue, 18 Feb 2025) EndedAt: 2025-02-18 22:23:34 -0500 (Tue, 18 Feb 2025) EllapsedTime: 23.5 seconds RetCode: 0 Status: OK PackageFile: geomeTriD_1.1.9.tgz PackageFileSize: 1.548 MiB