Package: genomicInstability Version: 1.13.0 Command: chmod a+r genomicInstability -R && E:\biocbuild\bbs-3.21-bioc\R\bin\R.exe CMD build --keep-empty-dirs --no-resave-data genomicInstability StartedAt: 2025-02-20 18:57:34 -0500 (Thu, 20 Feb 2025) EndedAt: 2025-02-20 19:00:05 -0500 (Thu, 20 Feb 2025) EllapsedTime: 150.9 seconds RetCode: 0 Status: OK PackageFile: genomicInstability_1.13.0.tar.gz PackageFileSize: 1.029 MiB