Package: genomicInstability Version: 1.13.0 Command: /home/biocbuild/bbs-3.21-bioc/R/bin/R CMD check --install=check:genomicInstability.install-out.txt --library=/home/biocbuild/bbs-3.21-bioc/R/site-library --timings genomicInstability_1.13.0.tar.gz StartedAt: 2025-02-20 22:16:14 -0500 (Thu, 20 Feb 2025) EndedAt: 2025-02-20 22:22:34 -0500 (Thu, 20 Feb 2025) EllapsedTime: 380.4 seconds RetCode: 0 Status: OK CheckDir: genomicInstability.Rcheck Warnings: 0