Package: genomicInstability Version: 1.13.0 Command: /home/biocbuild/bbs-3.21-bioc/R/bin/R CMD build --keep-empty-dirs --no-resave-data genomicInstability StartedAt: 2025-02-20 17:34:07 -0500 (Thu, 20 Feb 2025) EndedAt: 2025-02-20 17:36:02 -0500 (Thu, 20 Feb 2025) EllapsedTime: 115.1 seconds RetCode: 0 Status: OK PackageFile: genomicInstability_1.13.0.tar.gz PackageFileSize: 1.222 MiB