Package: genomicInstability Version: 1.13.0 Command: /Library/Frameworks/R.framework/Resources/bin/R CMD INSTALL genomicInstability StartedAt: 2025-02-20 15:31:00 -0500 (Thu, 20 Feb 2025) EndedAt: 2025-02-20 15:31:34 -0500 (Thu, 20 Feb 2025) EllapsedTime: 34.8 seconds RetCode: 0 Status: OK