Package: genomicInstability Version: 1.13.0 Command: /Library/Frameworks/R.framework/Resources/bin/R CMD build --keep-empty-dirs --no-resave-data genomicInstability StartedAt: 2025-02-20 16:47:57 -0500 (Thu, 20 Feb 2025) EndedAt: 2025-02-20 16:49:52 -0500 (Thu, 20 Feb 2025) EllapsedTime: 115.5 seconds RetCode: 0 Status: OK PackageFile: genomicInstability_1.13.0.tar.gz PackageFileSize: 1.211 MiB