Package: genomicInstability Version: 1.13.0 Command: rm -rf genomicInstability.buildbin-libdir && mkdir genomicInstability.buildbin-libdir && /Users/biocbuild/BBS/utils/build-universal.sh genomicInstability_1.13.0.tar.gz /Library/Frameworks/R.framework/Resources/bin/R genomicInstability.buildbin-libdir StartedAt: 2025-02-21 00:32:34 -0500 (Fri, 21 Feb 2025) EndedAt: 2025-02-21 00:33:12 -0500 (Fri, 21 Feb 2025) EllapsedTime: 38.2 seconds RetCode: 0 Status: OK PackageFile: genomicInstability_1.13.0.tgz PackageFileSize: 1.267 MiB