Package: genomes Version: 3.37.0 Command: /home/biocbuild/R/R/bin/R CMD INSTALL genomes StartedAt: 2025-01-29 19:33:57 -0000 (Wed, 29 Jan 2025) EndedAt: 2025-01-29 19:34:13 -0000 (Wed, 29 Jan 2025) EllapsedTime: 16.3 seconds RetCode: 0 Status: OK