Package: genomes Version: 3.37.0 Command: /home/biocbuild/R/R/bin/R CMD build --keep-empty-dirs --no-resave-data genomes StartedAt: 2025-01-28 23:06:19 -0000 (Tue, 28 Jan 2025) EndedAt: 2025-01-28 23:06:26 -0000 (Tue, 28 Jan 2025) EllapsedTime: 7.0 seconds RetCode: 0 Status: OK PackageFile: genomes_3.37.0.tar.gz PackageFileSize: 95.53 KiB