Package: genomes Version: 3.37.0 Command: /Library/Frameworks/R.framework/Resources/bin/R CMD INSTALL genomes StartedAt: 2025-02-19 15:02:46 -0500 (Wed, 19 Feb 2025) EndedAt: 2025-02-19 15:02:49 -0500 (Wed, 19 Feb 2025) EllapsedTime: 3.9 seconds RetCode: 0 Status: OK