Package: genomeIntervals Version: 1.63.0 Command: /Library/Frameworks/R.framework/Resources/bin/R CMD check --install=check:genomeIntervals.install-out.txt --library=/Library/Frameworks/R.framework/Resources/library --no-vignettes --timings genomeIntervals_1.63.0.tar.gz StartedAt: 2025-02-19 19:26:49 -0500 (Wed, 19 Feb 2025) EndedAt: 2025-02-19 19:27:25 -0500 (Wed, 19 Feb 2025) EllapsedTime: 36.4 seconds RetCode: 0 Status: WARNINGS CheckDir: genomeIntervals.Rcheck Warnings: 1