Package: genomeIntervals Version: 1.63.0 Command: /Library/Frameworks/R.framework/Resources/bin/R CMD build --keep-empty-dirs --no-resave-data genomeIntervals StartedAt: 2025-02-19 16:25:59 -0500 (Wed, 19 Feb 2025) EndedAt: 2025-02-19 16:26:09 -0500 (Wed, 19 Feb 2025) EllapsedTime: 10.1 seconds RetCode: 0 Status: OK PackageFile: genomeIntervals_1.63.0.tar.gz PackageFileSize: 255.8 KiB