Package: genomation Version: 1.39.0 Command: /home/biocbuild/bbs-3.21-bioc/R/bin/R CMD check --install=check:genomation.install-out.txt --library=/home/biocbuild/bbs-3.21-bioc/R/site-library --timings genomation_1.39.0.tar.gz StartedAt: 2025-02-20 22:15:14 -0500 (Thu, 20 Feb 2025) EndedAt: 2025-02-20 22:20:56 -0500 (Thu, 20 Feb 2025) EllapsedTime: 342.4 seconds RetCode: 0 Status: WARNINGS CheckDir: genomation.Rcheck Warnings: 1