Package: genomation Version: 1.39.0 Command: /Library/Frameworks/R.framework/Resources/bin/R CMD INSTALL genomation StartedAt: 2025-02-19 15:18:33 -0500 (Wed, 19 Feb 2025) EndedAt: 2025-02-19 15:19:36 -0500 (Wed, 19 Feb 2025) EllapsedTime: 63.6 seconds RetCode: 0 Status: OK