Package: genoCN Version: 1.59.0 Command: rm -rf genoCN.buildbin-libdir && mkdir genoCN.buildbin-libdir && E:\biocbuild\bbs-3.21-bioc\R\bin\R.exe CMD INSTALL --build --library=genoCN.buildbin-libdir genoCN_1.59.0.tar.gz StartedAt: 2025-01-22 07:40:30 -0500 (Wed, 22 Jan 2025) EndedAt: 2025-01-22 07:40:42 -0500 (Wed, 22 Jan 2025) EllapsedTime: 12.6 seconds RetCode: 0 Status: OK PackageFile: genoCN_1.59.0.zip PackageFileSize: 907.2 KiB