Package: genoCN Version: 1.59.0 Command: /home/biocbuild/bbs-3.21-bioc/R/bin/R CMD build --keep-empty-dirs --no-resave-data genoCN StartedAt: 2025-02-17 17:19:33 -0500 (Mon, 17 Feb 2025) EndedAt: 2025-02-17 17:19:34 -0500 (Mon, 17 Feb 2025) EllapsedTime: 1.0 seconds RetCode: 1 Status: ERROR PackageFile: None PackageFileSize: NA