Package: genoCN Version: 1.59.0 Command: /Library/Frameworks/R.framework/Resources/bin/R CMD INSTALL genoCN StartedAt: 2025-02-17 15:12:32 -0500 (Mon, 17 Feb 2025) EndedAt: 2025-02-17 15:12:35 -0500 (Mon, 17 Feb 2025) EllapsedTime: 3.1 seconds RetCode: 1 Status: ERROR