Package: genoCN Version: 1.59.0 Command: /home/biocbuild/R/R/bin/R CMD INSTALL genoCN StartedAt: 2025-01-29 19:44:21 -0000 (Wed, 29 Jan 2025) EndedAt: 2025-01-29 19:44:23 -0000 (Wed, 29 Jan 2025) EllapsedTime: 2.3 seconds RetCode: 1 Status: ERROR