Package: geneplotter Version: 1.85.0 Command: rm -rf geneplotter.buildbin-libdir && mkdir geneplotter.buildbin-libdir && E:\biocbuild\bbs-3.21-bioc\R\bin\R.exe CMD INSTALL --build --library=geneplotter.buildbin-libdir geneplotter_1.85.0.tar.gz StartedAt: 2025-02-18 07:24:30 -0500 (Tue, 18 Feb 2025) EndedAt: 2025-02-18 07:25:03 -0500 (Tue, 18 Feb 2025) EllapsedTime: 32.5 seconds RetCode: 0 Status: OK PackageFile: geneplotter_1.85.0.zip PackageFileSize: 1.577 MiB