Package: geneplotter Version: 1.85.0 Command: /home/biocbuild/bbs-3.21-bioc/R/bin/R CMD INSTALL geneplotter StartedAt: 2025-02-18 15:25:11 -0500 (Tue, 18 Feb 2025) EndedAt: 2025-02-18 15:25:25 -0500 (Tue, 18 Feb 2025) EllapsedTime: 14.0 seconds RetCode: 0 Status: OK