Package: geneplotter Version: 1.85.0 Command: /Library/Frameworks/R.framework/Resources/bin/R CMD INSTALL geneplotter StartedAt: 2025-02-17 15:09:40 -0500 (Mon, 17 Feb 2025) EndedAt: 2025-02-17 15:09:46 -0500 (Mon, 17 Feb 2025) EllapsedTime: 5.7 seconds RetCode: 0 Status: OK