Package: geneplast Version: 1.33.0 Command: E:\biocbuild\bbs-3.21-bioc\R\bin\R.exe CMD check --no-multiarch --install=check:geneplast.install-out.txt --library=E:\biocbuild\bbs-3.21-bioc\R\library --no-vignettes --timings geneplast_1.33.0.tar.gz StartedAt: 2025-02-19 01:18:33 -0500 (Wed, 19 Feb 2025) EndedAt: 2025-02-19 01:19:29 -0500 (Wed, 19 Feb 2025) EllapsedTime: 55.7 seconds RetCode: 0 Status: OK CheckDir: geneplast.Rcheck Warnings: 0