Package: geneplast Version: 1.33.0 Command: /Library/Frameworks/R.framework/Resources/bin/R CMD INSTALL geneplast StartedAt: 2025-02-18 15:12:32 -0500 (Tue, 18 Feb 2025) EndedAt: 2025-02-18 15:12:35 -0500 (Tue, 18 Feb 2025) EllapsedTime: 2.8 seconds RetCode: 0 Status: OK