Package: geneplast Version: 1.33.0 Command: /Library/Frameworks/R.framework/Resources/bin/R CMD check --install=check:geneplast.install-out.txt --library=/Library/Frameworks/R.framework/Resources/library --no-vignettes --timings geneplast_1.33.0.tar.gz StartedAt: 2025-02-18 19:25:41 -0500 (Tue, 18 Feb 2025) EndedAt: 2025-02-18 19:26:00 -0500 (Tue, 18 Feb 2025) EllapsedTime: 19.2 seconds RetCode: 0 Status: OK CheckDir: geneplast.Rcheck Warnings: 0