Package: genefu Version: 2.39.1 Command: E:\biocbuild\bbs-3.21-bioc\R\bin\R.exe CMD check --no-multiarch --install=check:genefu.install-out.txt --library=E:\biocbuild\bbs-3.21-bioc\R\library --no-vignettes --timings genefu_2.39.1.tar.gz StartedAt: 2025-02-21 01:38:20 -0500 (Fri, 21 Feb 2025) EndedAt: 2025-02-21 01:41:06 -0500 (Fri, 21 Feb 2025) EllapsedTime: 165.4 seconds RetCode: 0 Status: WARNINGS CheckDir: genefu.Rcheck Warnings: 1