Package: genefu Version: 2.39.1 Command: chmod a+r genefu -R && E:\biocbuild\bbs-3.21-bioc\R\bin\R.exe CMD build --keep-empty-dirs --no-resave-data genefu StartedAt: 2025-02-20 18:54:41 -0500 (Thu, 20 Feb 2025) EndedAt: 2025-02-20 18:56:28 -0500 (Thu, 20 Feb 2025) EllapsedTime: 106.8 seconds RetCode: 0 Status: OK PackageFile: genefu_2.39.1.tar.gz PackageFileSize: 4.637 MiB