Package: genefu Version: 2.39.1 Command: rm -rf genefu.buildbin-libdir && mkdir genefu.buildbin-libdir && E:\biocbuild\bbs-3.21-bioc\R\bin\R.exe CMD INSTALL --build --library=genefu.buildbin-libdir genefu_2.39.1.tar.gz StartedAt: 2025-02-21 08:09:11 -0500 (Fri, 21 Feb 2025) EndedAt: 2025-02-21 08:09:59 -0500 (Fri, 21 Feb 2025) EllapsedTime: 47.5 seconds RetCode: 0 Status: OK PackageFile: genefu_2.39.1.zip PackageFileSize: 4.94 MiB