Package: genefu Version: 2.39.1 Command: /home/biocbuild/bbs-3.21-bioc/R/bin/R CMD INSTALL genefu StartedAt: 2025-02-20 15:52:03 -0500 (Thu, 20 Feb 2025) EndedAt: 2025-02-20 15:52:25 -0500 (Thu, 20 Feb 2025) EllapsedTime: 22.5 seconds RetCode: 0 Status: OK