Package: genefu Version: 2.39.1 Command: /home/biocbuild/bbs-3.21-bioc/R/bin/R CMD check --install=check:genefu.install-out.txt --library=/home/biocbuild/bbs-3.21-bioc/R/site-library --timings genefu_2.39.1.tar.gz StartedAt: 2025-02-20 22:12:46 -0500 (Thu, 20 Feb 2025) EndedAt: 2025-02-20 22:15:40 -0500 (Thu, 20 Feb 2025) EllapsedTime: 174.3 seconds RetCode: 0 Status: WARNINGS CheckDir: genefu.Rcheck Warnings: 1