Package: genefu Version: 2.39.1 Command: /home/biocbuild/bbs-3.21-bioc/R/bin/R CMD build --keep-empty-dirs --no-resave-data genefu StartedAt: 2025-02-20 17:32:17 -0500 (Thu, 20 Feb 2025) EndedAt: 2025-02-20 17:33:34 -0500 (Thu, 20 Feb 2025) EllapsedTime: 77.1 seconds RetCode: 0 Status: OK PackageFile: genefu_2.39.1.tar.gz PackageFileSize: 4.901 MiB