Package: genefu Version: 2.39.1 Command: /Library/Frameworks/R.framework/Resources/bin/R CMD check --install=check:genefu.install-out.txt --library=/Library/Frameworks/R.framework/Resources/library --no-vignettes --timings genefu_2.39.1.tar.gz StartedAt: 2025-02-20 20:36:16 -0500 (Thu, 20 Feb 2025) EndedAt: 2025-02-20 20:38:51 -0500 (Thu, 20 Feb 2025) EllapsedTime: 155.8 seconds RetCode: 0 Status: WARNINGS CheckDir: genefu.Rcheck Warnings: 1