Package: genefu Version: 2.39.1 Command: /Library/Frameworks/R.framework/Resources/bin/R CMD INSTALL genefu StartedAt: 2025-02-20 15:29:22 -0500 (Thu, 20 Feb 2025) EndedAt: 2025-02-20 15:29:31 -0500 (Thu, 20 Feb 2025) EllapsedTime: 9.3 seconds RetCode: 0 Status: OK