Package: geneXtendeR Version: 1.33.0 Command: E:\biocbuild\bbs-3.21-bioc\R\bin\R.exe CMD INSTALL geneXtendeR StartedAt: 2025-02-20 16:17:21 -0500 (Thu, 20 Feb 2025) EndedAt: 2025-02-20 16:18:27 -0500 (Thu, 20 Feb 2025) EllapsedTime: 65.9 seconds RetCode: 0 Status: OK