Package: geneXtendeR Version: 1.33.0 Command: /Library/Frameworks/R.framework/Resources/bin/R CMD INSTALL geneXtendeR StartedAt: 2025-02-21 15:25:37 -0500 (Fri, 21 Feb 2025) EndedAt: 2025-02-21 15:26:41 -0500 (Fri, 21 Feb 2025) EllapsedTime: 64.4 seconds RetCode: 0 Status: OK