Package: geneRxCluster Version: 1.43.0 Command: chmod a+r geneRxCluster -R && E:\biocbuild\bbs-3.21-bioc\R\bin\R.exe CMD build --keep-empty-dirs --no-resave-data geneRxCluster StartedAt: 2025-02-17 18:45:34 -0500 (Mon, 17 Feb 2025) EndedAt: 2025-02-17 18:46:20 -0500 (Mon, 17 Feb 2025) EllapsedTime: 45.3 seconds RetCode: 0 Status: OK PackageFile: geneRxCluster_1.43.0.tar.gz PackageFileSize: 143 KiB