Package: geneRxCluster Version: 1.43.0 Command: /Library/Frameworks/R.framework/Resources/bin/R CMD check --install=check:geneRxCluster.install-out.txt --library=/Library/Frameworks/R.framework/Resources/library --no-vignettes --timings geneRxCluster_1.43.0.tar.gz StartedAt: 2025-02-17 20:33:29 -0500 (Mon, 17 Feb 2025) EndedAt: 2025-02-17 20:34:57 -0500 (Mon, 17 Feb 2025) EllapsedTime: 88.7 seconds RetCode: 0 Status: OK CheckDir: geneRxCluster.Rcheck Warnings: 0