Package: geneRecommender Version: 1.79.0 Command: E:\biocbuild\bbs-3.21-bioc\R\bin\R.exe CMD check --no-multiarch --install=check:geneRecommender.install-out.txt --library=E:\biocbuild\bbs-3.21-bioc\R\library --no-vignettes --timings geneRecommender_1.79.0.tar.gz StartedAt: 2025-02-22 02:08:29 -0500 (Sat, 22 Feb 2025) EndedAt: 2025-02-22 02:09:06 -0500 (Sat, 22 Feb 2025) EllapsedTime: 37.0 seconds RetCode: 0 Status: OK CheckDir: geneRecommender.Rcheck Warnings: 0