Package: geneRecommender Version: 1.79.0 Command: /home/biocbuild/bbs-3.21-bioc/R/bin/R CMD INSTALL geneRecommender StartedAt: 2025-02-20 15:21:45 -0500 (Thu, 20 Feb 2025) EndedAt: 2025-02-20 15:21:49 -0500 (Thu, 20 Feb 2025) EllapsedTime: 4.7 seconds RetCode: 0 Status: OK