Package: geneRecommender Version: 1.79.0 Command: /home/biocbuild/bbs-3.21-bioc/R/bin/R CMD check --install=check:geneRecommender.install-out.txt --library=/home/biocbuild/bbs-3.21-bioc/R/site-library --timings geneRecommender_1.79.0.tar.gz StartedAt: 2025-02-20 22:13:48 -0500 (Thu, 20 Feb 2025) EndedAt: 2025-02-20 22:14:13 -0500 (Thu, 20 Feb 2025) EllapsedTime: 25.1 seconds RetCode: 0 Status: OK CheckDir: geneRecommender.Rcheck Warnings: 0