Package: geneRecommender Version: 1.79.0 Command: /home/biocbuild/bbs-3.21-bioc/R/bin/R CMD build --keep-empty-dirs --no-resave-data geneRecommender StartedAt: 2025-02-20 17:32:54 -0500 (Thu, 20 Feb 2025) EndedAt: 2025-02-20 17:33:00 -0500 (Thu, 20 Feb 2025) EllapsedTime: 6.0 seconds RetCode: 0 Status: OK PackageFile: geneRecommender_1.79.0.tar.gz PackageFileSize: 240 KiB