Package: geneRecommender Version: 1.79.0 Command: rm -rf geneRecommender.buildbin-libdir && mkdir geneRecommender.buildbin-libdir && /Users/biocbuild/BBS/utils/build-universal.sh geneRecommender_1.79.0.tar.gz /Library/Frameworks/R.framework/Resources/bin/R geneRecommender.buildbin-libdir StartedAt: 2025-02-21 00:32:12 -0500 (Fri, 21 Feb 2025) EndedAt: 2025-02-21 00:32:19 -0500 (Fri, 21 Feb 2025) EllapsedTime: 7.0 seconds RetCode: 0 Status: OK PackageFile: geneRecommender_1.79.0.tgz PackageFileSize: 263.2 KiB