Package: geneRecommender Version: 1.79.0 Command: /Library/Frameworks/R.framework/Resources/bin/R CMD INSTALL geneRecommender StartedAt: 2025-02-20 15:01:25 -0500 (Thu, 20 Feb 2025) EndedAt: 2025-02-20 15:01:30 -0500 (Thu, 20 Feb 2025) EllapsedTime: 5.0 seconds RetCode: 0 Status: OK