Package: geneRecommender Version: 1.79.0 Command: /Library/Frameworks/R.framework/Resources/bin/R CMD check --install=check:geneRecommender.install-out.txt --library=/Library/Frameworks/R.framework/Resources/library --no-vignettes --timings geneRecommender_1.79.0.tar.gz StartedAt: 2025-02-20 19:24:03 -0500 (Thu, 20 Feb 2025) EndedAt: 2025-02-20 19:24:16 -0500 (Thu, 20 Feb 2025) EllapsedTime: 13.2 seconds RetCode: 0 Status: OK CheckDir: geneRecommender.Rcheck Warnings: 0