Package: geneRecommender Version: 1.79.0 Command: /Library/Frameworks/R.framework/Resources/bin/R CMD build --keep-empty-dirs --no-resave-data geneRecommender StartedAt: 2025-02-20 16:25:17 -0500 (Thu, 20 Feb 2025) EndedAt: 2025-02-20 16:25:21 -0500 (Thu, 20 Feb 2025) EllapsedTime: 4.0 seconds RetCode: 0 Status: OK PackageFile: geneRecommender_1.79.0.tar.gz PackageFileSize: 239.5 KiB