Package: geneClassifiers Version: 1.31.0 Command: E:\biocbuild\bbs-3.21-bioc\R\bin\R.exe CMD check --no-multiarch --install=check:geneClassifiers.install-out.txt --library=E:\biocbuild\bbs-3.21-bioc\R\library --no-vignettes --timings geneClassifiers_1.31.0.tar.gz StartedAt: 2025-02-21 01:37:29 -0500 (Fri, 21 Feb 2025) EndedAt: 2025-02-21 01:38:19 -0500 (Fri, 21 Feb 2025) EllapsedTime: 50.0 seconds RetCode: 0 Status: OK CheckDir: geneClassifiers.Rcheck Warnings: 0