Package: geneClassifiers Version: 1.31.0 Command: /Library/Frameworks/R.framework/Resources/bin/R CMD check --install=check:geneClassifiers.install-out.txt --library=/Library/Frameworks/R.framework/Resources/library --no-vignettes --timings geneClassifiers_1.31.0.tar.gz StartedAt: 2025-02-19 20:35:40 -0500 (Wed, 19 Feb 2025) EndedAt: 2025-02-19 20:36:28 -0500 (Wed, 19 Feb 2025) EllapsedTime: 48.0 seconds RetCode: 0 Status: OK CheckDir: geneClassifiers.Rcheck Warnings: 0