Package: geneClassifiers Version: 1.31.0 Command: rm -rf geneClassifiers.buildbin-libdir && mkdir geneClassifiers.buildbin-libdir && /Users/biocbuild/BBS/utils/build-universal.sh geneClassifiers_1.31.0.tar.gz /Library/Frameworks/R.framework/Resources/bin/R geneClassifiers.buildbin-libdir StartedAt: 2025-02-20 00:33:21 -0500 (Thu, 20 Feb 2025) EndedAt: 2025-02-20 00:33:33 -0500 (Thu, 20 Feb 2025) EllapsedTime: 11.6 seconds RetCode: 0 Status: OK PackageFile: geneClassifiers_1.31.0.tgz PackageFileSize: 1.888 MiB