Package: geneClassifiers Version: 1.31.0 Command: /Library/Frameworks/R.framework/Resources/bin/R CMD INSTALL geneClassifiers StartedAt: 2025-02-19 15:01:23 -0500 (Wed, 19 Feb 2025) EndedAt: 2025-02-19 15:01:26 -0500 (Wed, 19 Feb 2025) EllapsedTime: 2.6 seconds RetCode: 0 Status: OK