Package: geneAttribution Version: 1.33.0 Command: rm -rf geneAttribution.buildbin-libdir && mkdir geneAttribution.buildbin-libdir && /Users/biocbuild/BBS/utils/build-universal.sh geneAttribution_1.33.0.tar.gz /Library/Frameworks/R.framework/Resources/bin/R geneAttribution.buildbin-libdir StartedAt: 2025-02-19 00:26:10 -0500 (Wed, 19 Feb 2025) EndedAt: 2025-02-19 00:26:59 -0500 (Wed, 19 Feb 2025) EllapsedTime: 48.7 seconds RetCode: 0 Status: OK PackageFile: geneAttribution_1.33.0.tgz PackageFileSize: 64.21 KiB