Package: gemma.R Version: 3.3.0 Command: chmod a+r gemma.R -R && E:\biocbuild\bbs-3.21-bioc\R\bin\R.exe CMD build --keep-empty-dirs --no-resave-data gemma.R StartedAt: 2025-02-20 18:54:10 -0500 (Thu, 20 Feb 2025) EndedAt: 2025-02-20 19:01:47 -0500 (Thu, 20 Feb 2025) EllapsedTime: 457.1 seconds RetCode: 0 Status: OK PackageFile: gemma.R_3.3.0.tar.gz PackageFileSize: 1.674 MiB